Workbook

Sheet Fietsbalansverkenner
B1: Kies twee gemeenten om te vergelijken | G1: Wel of niet nuttig?
B2: Gemeente 1 | C2: Rotterdam | G2: Vind je het wel of niet nuttig als de Fietsbalans nieuw leven wordt ingeblazen? Laat het weten in deze korte enquête (max 8 vragen)
B3: Gemeente 2 | C3: Amsterdam
D40: hoofdaspecten
B41: Gemeenten | C41: jaar | D41: directheid | E41: comfort (hinder) | F41: comfort (wegdek) | G41: aantrekkelijkheid (geluid) | H41: concurrentie-positie | I41: fietsgebruik | J41: verkeers-veiligheid | K41: stedelijke dichtheid | L41: fietsers tevredenheid | M41: beleid op papier
B42: =C2 -> Rotterdam | C42: =_xlfn.XLOOKUP(Tabel3[[#This Row],[Gemeenten]],data!B:B,data!D:D) -> 2000 | D42: =MAX(-3.5,MIN(1.5,_xlfn.XLOOKUP($B42,data!$B:$B,data!$F:$F))) -> -2.534875 | E42: =MAX(-3.5,MIN(1.5,_xlfn.XLOOKUP($B42,data!$B:$B,data!$G:$G))) -> -1.9014566 | F42: =MAX(-3.5,MIN(1.5,_xlfn.XLOOKUP($B42,data!$B:$B,data!$H:$H))) -> -0.77103987 | G42: =MAX(-3.5,MIN(1.5,_xlfn.XLOOKUP($B42,data!$B:$B,data!$I:$I))) -> -1.9834809 | H42: =MAX(-3.5,MIN(1.5,_xlfn.XLOOKUP($B42,data!$B:$B,data!$J:$J))) -> -0.32404167 | I42: =MAX(-3.5,MIN(1.5,_xlfn.XLOOKUP($B42,data!$B:$B,data!$K:$K))) -> -3.5 | J42: =MAX(-3.5,MIN(1.5,_xlfn.XLOOKUP($B42,data!$B:$B,data!$L:$L))) -> 0.407 | K42: =MAX(-3.5,MIN(1.5,_xlfn.XLOOKUP($B42,data!$B:$B,data!$M:$M))) -> -2.503384 | L42: =MAX(-3.5,MIN(1.5,_xlfn.XLOOKUP($B42,data!$B:$B,data!$N:$N))) -> -1.98861 | M42: =MAX(-3.5,MIN(1.5,_xlfn.XLOOKUP($B42,data!$B:$B,data!$O:$O))) -> -0.33333333
B43: =C3 -> Amsterdam | C43: =_xlfn.XLOOKUP(Tabel3[[#This Row],[Gemeenten]],data!B:B,data!D:D) -> 2000 | D43: =MAX(-3.5,MIN(1.5,_xlfn.XLOOKUP($B43,data!$B:$B,data!$F:$F))) -> -1.049125 | E43: =MAX(-3.5,MIN(1.5,_xlfn.XLOOKUP($B43,data!$B:$B,data!$G:$G))) -> -2.7343423 | F43: =MAX(-3.5,MIN(1.5,_xlfn.XLOOKUP($B43,data!$B:$B,data!$H:$H))) -> -0.8563283 | G43: =MAX(-3.5,MIN(1.5,_xlfn.XLOOKUP($B43,data!$B:$B,data!$I:$I))) -> -2.4086714 | H43: =MAX(-3,MIN(1.5,_xlfn.XLOOKUP($B43,data!$B:$B,data!$J:$J))) -> 1.5 | I43: =MAX(-3.5,MIN(1.5,_xlfn.XLOOKUP($B43,data!$B:$B,data!$K:$K))) -> -1.453 | J43: =MAX(-3.5,MIN(1.5,_xlfn.XLOOKUP($B43,data!$B:$B,data!$L:$L))) -> 1.365 | K43: =MAX(-3.5,MIN(1.5,_xlfn.XLOOKUP($B43,data!$B:$B,data!$M:$M))) -> -1.3491371 | L43: =MAX(-3.5,MIN(1.5,_xlfn.XLOOKUP($B43,data!$B:$B,data!$N:$N))) -> -2.121212 | M43: =MAX(-3.5,MIN(1.5,_xlfn.XLOOKUP($B43,data!$B:$B,data!$O:$O))) -> -1.6992188
B44: Norm | D44: 0 | E44: 0 | F44: 0 | G44: 0 | H44: 0 | I44: 0 | J44: 0 | K44: 0 | L44: 0 | M44: 0
B46: Dit is een eenvoudige remake van de Fietsbalansverkenner die aan het begin van deze eeuw online stond
B47: In de oorspronkelijke tool kon je op een aspect klikken om de scores op de deelaspecten te bekijken.
B48: Het aspect "Concurrentiepositie tov de auto" kent bijvoorbeeld de deelaspecten "reistijdverhouding auto/fiets" en "parkeerkosten"
B49: Klik hier voor een complete beschrijving van de methode
B50: Zie ook tabblad "Besten uit de test"
B51: Piet van der Linden & Otto van Boggelen, 2026

Sheet Besten uit de test

Sheet data
A1: gemnr | B1: gemeente | C1: inw | D1: fietsbalans | E1: provincie | F1: directheid | G1: comfort (hinder) | H1: comfort (wegdek) | I1: aantrekkelijkheid (geluid) | J1: concurrentiepositie | K1: fietsgebruik | L1: verkeersveiligheid | M1: stedelijke_dichtheid | N1: tevredenheid | O1: beleid_op_papier | P1: fbscore | Q1: fbminus | R1: fiets | S1: model | T1: Column20 | U1: Column21 | V1: Column22 | W1: Column23 | X1: Column24 | Y1: Column25 | Z1: Column26 | AA1: Column27 | AB1: Column28 | AC1: Column29 | AD1: Column30 | AE1: Column31 | AF1: Column32 | AG1: Column33 | AH1: Column34 | AI1: Column35 | AJ1: Column36 | AK1: Column37 | AL1: Column38
A2: 518 | B2: Den Haag | C2: 442764 | D2: 2000 | E2: ZH | F2: -4.0045 | G2: -4.8456368 | H2: -2.7439145 | I2: -2.644415 | J2: -0.58008333 | K2: -2.865 | L2: 0.024 | M2: -0.39215856 | N2: -1.865449 | O2: -0.48958333 | P2: -17.54174 | Q2: -16.961657 | R2: 0.25674576
A3: 917 | B3: Heerlen | C3: 95654 | D3: 2000 | E3: LIM | F3: -3.3995 | G3: -1.9638518 | H3: 0.42343257 | I3: -1.7207587 | J3: -0.7755 | K3: -5.22 | L3: -2.9 | M3: -1.2206181 | N3: -1.4991591 | O3: -2.34375 | P3: -15.399705 | Q3: -14.624205 | R3: 0.13897807
A4: 392 | B4: Haarlem | C4: 147175 | D4: 2000 | E4: NH | F4: -3.1825 | G4: -1.867843 | H4: -1.4699 | I4: -2.8047619 | J4: -1.1421667 | K4: -1.463 | L4: -1.416 | M4: 1.4675675 | N4: -2.095264 | O4: -1.65625 | P4: -14.167118 | Q4: -13.024951 | R4: 0.32687224
A5: 957 | B5: Roermond | C5: 44952 | D5: 2002 | E5: LI | F5: -2.745 | G5: -0.931 | H5: -0.733 | I5: -1.752 | J5: -0.436 | K5: -1.669 | L5: 0.236 | M5: -0.34 | N5: -0.69116 | O5: -0.85 | P5: -8.24216 | Q5: -7.80616 | R5: 0.31656983
A6: 599 | B6: Rotterdam | C6: 590573 | D6: 2000 | E6: ZH | F6: -2.534875 | G6: -1.9014566 | H6: -0.77103987 | I6: -1.9834809 | J6: -0.32404167 | K6: -3.816 | L6: 0.407 | M6: -2.503384 | N6: -1.98861 | O6: -0.33333333 | P6: -11.933221 | Q6: -11.60918 | R6: 0.20920239
A7: 548 | B7: Leidschendam | C7: 34713 | D7: 2000 | E7: ZH | F7: -2.322 | G7: -1.7168427 | H7: -2.3212401 | I7: -0.21244672 | J7: -0.9845 | K7: -2.308 | L7: -0.503 | M7: 2.7883036 | N7: -1.217941 | O7: -0.51041667 | P7: -7.0000835 | Q7: -6.0155835 | R7: 0.272
A8: 453 | B8: Velsen | C8: 66553 | D8: 2002 | E8: NH | F8: -2.23 | G8: 0.22 | H8: -2.7 | I8: -2.27 | J8: -4.02 | K8: -1.947 | L8: 1.147 | M8: -0.07 | N8: -1.28646 | O8: -1.24 | P8: -12.44946 | Q8: -8.42946 | R8: 0.30263506
A9: 513 | B9: Gouda | C9: 71523 | D9: 2000 | E9: ZH | F9: -2.191808 | G9: -1.9139365 | H9: -1.5474672 | I9: -1.79736 | J9: -0.56872619 | K9: 0.264 | L9: -2.629 | M9: 1.9029143 | N9: -1.468435 | O9: -0.45833333 | P9: -10.672152 | Q9: -10.103426 | R9: 0.41322076
A10: 80 | B10: Leeuwarden | C10: 83900 | D10: 2001 | E10: FR | F10: -2.1426988 | G10: -1.7132738 | H10: -0.54739248 | I10: -0.60051393 | J10: -1.5981084 | K10: 1.156 | L10: 1.709 | M10: 0.90761661 | N10: -1.71 | O10: -1.1354167 | P10: -6.8307875 | Q10: -5.2326791 | R10: 0.45777809
A11: 624 | B11: Voorburg | C11: 38496 | D11: 2002 | E11: ZH | F11: -2.08 | G11: -2.15 | H11: -3.5 | I11: -2.18 | J11: -2.04 | K11: -2.792 | L11: -1.574 | M11: 6.93 | N11: -1.57126 | O11: -1.91667 | P11: -10.08193 | Q11: -8.04193 | R11: 0.272
A12: 344 | B12: Utrecht | C12: 232737 | D12: 2000 | E12: UT | F12: -2.02 | G12: -2.5408614 | H12: -1.6534114 | I12: -1.8071856 | J12: 0.31991667 | K12: -0.081 | L12: -1.023 | M12: 0.30271001 | N12: -1.899941 | O12: -1.2604167 | P12: -11.582189 | Q12: -11.902106 | R12: 0.3959456
A13: 479 | B13: Zaandam | C13: 71512 | D13: 2000 | E13: NH | F13: -1.97 | G13: -0.89144691 | H13: -3.2036936 | I13: -2.7365646 | J13: -0.39783333 | K13: -0.746 | L13: -0.366 | M13: -1.5960083 | N13: -1.309965 | O13: -1.6458333 | P13: -14.117345 | Q13: -13.719512 | R13: 0.36270617
... A108: 34 | B108: Almere-Stad | C108: 76966 | D108: 2000 | E108: FL | F108: 0.754 | G108: -0.42419208 | H108: 0.036820804 | I108: 0.82939763 | J108: -1.91 | K108: -2.04 | L108: 2.099 | M108: -2.1639867 | N108: -0.998256 | O108: -0.49 | P108: -2.2672163 | Q108: -0.35721631 | R108: 0.29802456

Sheet Voorbeelden 2006-2014
